BEGIN:VCALENDAR
VERSION:2.0
PRODID:-//Gran Américas Usme - ECPv6.0.6.1//NONSGML v1.0//EN
CALSCALE:GREGORIAN
METHOD:PUBLISH
X-ORIGINAL-URL:https://granamericasusme.co
X-WR-CALDESC:Events for Gran Américas Usme
REFRESH-INTERVAL;VALUE=DURATION:PT1H
X-Robots-Tag:noindex
X-PUBLISHED-TTL:PT1H
BEGIN:VTIMEZONE
TZID:UTC
BEGIN:STANDARD
TZOFFSETFROM:+0000
TZOFFSETTO:+0000
TZNAME:UTC
DTSTART:20230101T000000
END:STANDARD
END:VTIMEZONE
BEGIN:VEVENT
DTSTART;TZID=UTC:20230616T100000
DTEND;TZID=UTC:20230616T150000
DTSTAMP:20260425T224917
CREATED:20230621T184210Z
LAST-MODIFIED:20230914T191531Z
UID:9400-1686909600-1686927600@granamericasusme.co
SUMMARY:Feria de emprendimientos GAU/Mercados campesinos
DESCRIPTION:El pasado viernes 16 de junio\, realizamos junto a la Alcaldía local de Usme nuestro ya conocido Mercado campesino\, permitiendo a los vecinos de la Localidad promocionar y vender sus productos a los colaboradores de Gran Américas Usme. En esta ocasión encontramos frutas\, verduras\, empanadas\, quesos\, y algunos emprendimientos de nuestros colaboradores como ropa\, productos tejidos y postres.
URL:https://granamericasusme.co/evento/feria-de-emprendimientos-gau-mercados-campesinos/
CATEGORIES:Bienestar
END:VEVENT
END:VCALENDAR