BEGIN:VCALENDAR
VERSION:2.0
PRODID:-//Gran Américas Usme - ECPv6.0.6.1//NONSGML v1.0//EN
CALSCALE:GREGORIAN
METHOD:PUBLISH
X-ORIGINAL-URL:https://granamericasusme.co
X-WR-CALDESC:Events for Gran Américas Usme
REFRESH-INTERVAL;VALUE=DURATION:PT1H
X-Robots-Tag:noindex
X-PUBLISHED-TTL:PT1H
BEGIN:VTIMEZONE
TZID:UTC
BEGIN:STANDARD
TZOFFSETFROM:+0000
TZOFFSETTO:+0000
TZNAME:UTC
DTSTART:20230101T000000
END:STANDARD
END:VTIMEZONE
BEGIN:VEVENT
DTSTART;TZID=UTC:20230424T080000
DTEND;TZID=UTC:20230429T170000
DTSTAMP:20260425T210421
CREATED:20230324T213348Z
LAST-MODIFIED:20230530T013044Z
UID:8175-1682323200-1682787600@granamericasusme.co
SUMMARY:Semana De La Lectura Gran Américas Usme
DESCRIPTION:Nuestra Semana de la Lectura GAU estrá destinada a nuestros colaboradores y usuarios; contará con actividades destacadas como por ejemplo: \n24 de abril: Lectura De Los Cubos y Hoja En Blanco. \n25 de abril: Escribe tu historia. \n26 de abril: Historias en Movimiento. \n27 de abril: Lee como un comentarista deportivo. \n28 de abril: Lectura en voz alta. \n29 de abril: La Hora del Cuento. \n 
URL:https://granamericasusme.co/evento/semana-de-la-lectura-gran-americas-usme/
CATEGORIES:Bienestar
ATTACH;FMTTYPE=image/png:https://granamericasusme.co/wp-content/uploads/2023/03/semana-de-la-lectura-e1685392208689.png
END:VEVENT
END:VCALENDAR