BEGIN:VCALENDAR
VERSION:2.0
PRODID:-//Gran Américas Usme - ECPv6.0.6.1//NONSGML v1.0//EN
CALSCALE:GREGORIAN
METHOD:PUBLISH
X-ORIGINAL-URL:https://granamericasusme.co
X-WR-CALDESC:Events for Gran Américas Usme
REFRESH-INTERVAL;VALUE=DURATION:PT1H
X-Robots-Tag:noindex
X-PUBLISHED-TTL:PT1H
BEGIN:VTIMEZONE
TZID:UTC
BEGIN:STANDARD
TZOFFSETFROM:+0000
TZOFFSETTO:+0000
TZNAME:UTC
DTSTART:20230101T000000
END:STANDARD
END:VTIMEZONE
BEGIN:VEVENT
DTSTART;VALUE=DATE:20230410
DTEND;VALUE=DATE:20230412
DTSTAMP:20260425T210427
CREATED:20230403T182504Z
LAST-MODIFIED:20230510T023543Z
UID:8214-1681084800-1681257599@granamericasusme.co
SUMMARY:Semana de la Salud GAU y GAUP
DESCRIPTION:Invitamos a todos nuestros colaboradores a participar de las actividades organizadas por SST en el marco de la Semana de la Salud. Los esperamos del 3 al 11 de abril
URL:https://granamericasusme.co/evento/semana-de-la-salud-gau-y-gaup-2/
CATEGORIES:Bienestar
END:VEVENT
END:VCALENDAR