BEGIN:VCALENDAR
VERSION:2.0
PRODID:-//Gran Américas Usme - ECPv6.0.6.1//NONSGML v1.0//EN
CALSCALE:GREGORIAN
METHOD:PUBLISH
X-ORIGINAL-URL:https://granamericasusme.co
X-WR-CALDESC:Events for Gran Américas Usme
REFRESH-INTERVAL;VALUE=DURATION:PT1H
X-Robots-Tag:noindex
X-PUBLISHED-TTL:PT1H
BEGIN:VTIMEZONE
TZID:UTC
BEGIN:STANDARD
TZOFFSETFROM:+0000
TZOFFSETTO:+0000
TZNAME:UTC
DTSTART:20230101T000000
END:STANDARD
END:VTIMEZONE
BEGIN:VEVENT
DTSTART;VALUE=DATE:20230308
DTEND;VALUE=DATE:20230309
DTSTAMP:20260425T224409
CREATED:20230314T023838Z
LAST-MODIFIED:20230510T023555Z
UID:8171-1678233600-1678319999@granamericasusme.co
SUMMARY:Día de la mujer GAU
DESCRIPTION:El día 8 de marzo conmemoramos el día de la mujer
URL:https://granamericasusme.co/evento/dia-de-la-mujer-gau/
CATEGORIES:Celebraciones
ATTACH;FMTTYPE=image/jpeg:https://granamericasusme.co/wp-content/uploads/2023/03/Dia-de-la-mujer.jpg
END:VEVENT
END:VCALENDAR